View In:
ArcGIS JavaScript
ArcGIS Online map viewer
ArcGIS Earth
ArcMap
View Footprint In:
ArcGIS Online map viewer
Service Description: Perak_2020
Name: Perak_2020
Description:
Single Fused Map Cache: false
Extent:
XMin: 699965
YMin: 390235
XMax: 809765
YMax: 500035
Spatial Reference: 32647
(32647)
Initial Extent:
XMin: 699965
YMin: 390235
XMax: 809765
YMax: 500035
Spatial Reference: 32647
(32647)
Full Extent:
XMin: 699965
YMin: 390235
XMax: 809765
YMax: 500035
Spatial Reference: 32647
(32647)
Pixel Size X: 10.0
Pixel Size Y: 10.0
Band Count: 13
Pixel Type: U16
RasterFunction Infos: {"rasterFunctionInfos": [{
"name": "None",
"description": "",
"help": ""
}]}
Mensuration Capabilities: Basic
Has Histograms: true
Has Colormap: false
Has Multi Dimensions : false
Rendering Rule:
Min Scale: 0
Max Scale: 0
Copyright Text:
Service Data Type: esriImageServiceDataTypeGeneric
Min Values: 0, 304, 228, 49, 1, 0, 0, 146, 0, 0, 40, 1, 0
Max Values: 8625, 17631, 15547, 21039, 12574, 19887, 19575, 22300, 3744, 358, 13685, 13401, 23025
Mean Values: 1220.6743851713, 950.94417544235, 868.56879376644, 621.39243596571, 914.75209677473, 2152.0869742635, 2760.0122353609, 2616.7032624477, 525.42732240437, 39.641125220222, 1545.112097007, 703.31902160245, 3066.6458904582
Standard Deviation Values: 387.37908737766, 435.63107908546, 451.11055974716, 538.42722917073, 510.01081545958, 683.52319924786, 863.07359083897, 844.22516105487, 210.30136181068, 19.14448177921, 709.89951063635, 522.7917107552, 970.14411950388
Object ID Field:
Fields:
None
Default Mosaic Method: Center
Allowed Mosaic Methods:
SortField:
SortValue: null
Mosaic Operator: First
Default Compression Quality: 75
Default Resampling Method: Bilinear
Max Record Count: null
Max Image Height: 4100
Max Image Width: 15000
Max Download Image Count: null
Max Mosaic Image Count: null
Allow Raster Function: true
Allow Copy: true
Allow Analysis: true
Allow Compute TiePoints: false
Supports Statistics: false
Supports Advanced Queries: false
Use StandardizedQueries: true
Raster Type Infos:
Name: Raster Dataset
Description: Supports all ArcGIS Raster Datasets
Help:
Has Raster Attribute Table: false
Edit Fields Info: null
Ownership Based AccessControl For Rasters: null
Child Resources:
Info
Histograms
Statistics
Key Properties
Legend
Raster Function Infos
Supported Operations:
Export Image
Identify
Measure
Compute Histograms
Compute Statistics Histograms
Get Samples
Compute Class Statistics
Query Boundary
Compute Pixel Location
Compute Angles
Validate
Project