{
 "currentVersion": 11.0,
 "serviceDescription": "Perak_2020",
 "name": "Perak_2020",
 "description": "",
 "extent": {
  "xmin": 699965,
  "ymin": 390235,
  "xmax": 809765,
  "ymax": 500035,
  "spatialReference": {
   "wkid": 32647,
   "latestWkid": 32647
  }
 },
 "initialExtent": {
  "xmin": 699965,
  "ymin": 390235,
  "xmax": 809765,
  "ymax": 500035,
  "spatialReference": {
   "wkid": 32647,
   "latestWkid": 32647
  }
 },
 "fullExtent": {
  "xmin": 699965,
  "ymin": 390235,
  "xmax": 809765,
  "ymax": 500035,
  "spatialReference": {
   "wkid": 32647,
   "latestWkid": 32647
  }
 },
 "sortableFields": "",
 "bandCount": 13,
 "pixelType": "U16",
 "minValues": [
  0,
  304,
  228,
  49,
  1,
  0,
  0,
  146,
  0,
  0,
  40,
  1,
  0
 ],
 "maxValues": [
  8625,
  17631,
  15547,
  21039,
  12574,
  19887,
  19575,
  22300,
  3744,
  358,
  13685,
  13401,
  23025
 ],
 "meanValues": [
  1220.6743851713,
  950.94417544235,
  868.56879376644,
  621.39243596571,
  914.75209677473,
  2152.0869742635,
  2760.0122353609,
  2616.7032624477,
  525.42732240437,
  39.641125220222,
  1545.112097007,
  703.31902160245,
  3066.6458904582
 ],
 "stdvValues": [
  387.37908737766,
  435.63107908546,
  451.11055974716,
  538.42722917073,
  510.01081545958,
  683.52319924786,
  863.07359083897,
  844.22516105487,
  210.30136181068,
  19.14448177921,
  709.89951063635,
  522.7917107552,
  970.14411950388
 ],
 "hasMultidimensions": false,
 "pixelSizeX": 10,
 "pixelSizeY": 10,
 "datasetFormat": "IMAGINE Image",
 "uncompressedSize": 3134570400,
 "blockWidth": 512,
 "blockHeight": 512,
 "compressionType": "None",
 "bandNames": [
  "Layer_1",
  "Layer_2",
  "Layer_3",
  "Layer_4",
  "Layer_5",
  "Layer_6",
  "Layer_7",
  "Layer_8",
  "Layer_9",
  "Layer_10",
  "Layer_11",
  "Layer_12",
  "Layer_13"
 ],
 "allowCopy": true,
 "allowAnalysis": true,
 "minPixelSize": 0,
 "maxPixelSize": 0,
 "copyrightText": "",
 "serviceDataType": "esriImageServiceDataTypeGeneric",
 "serviceSourceType": "esriImageServiceSourceTypeDataset",
 "objectIdField": "",
 "fields": [],
 "capabilities": "Image,Metadata,Mensuration",
 "defaultMosaicMethod": "Center",
 "allowedMosaicMethods": "",
 "sortField": "",
 "sortValue": null,
 "sortAscending": true,
 "mosaicOperator": "First",
 "defaultCompressionQuality": 75,
 "defaultResamplingMethod": "Bilinear",
 "maxImageHeight": 4100,
 "maxImageWidth": 15000,
 "allowRasterFunction": true,
 "rasterFunctionInfos": [
  {
   "name": "None",
   "description": "",
   "help": ""
  }
 ],
 "rasterTypeInfos": [
  {
   "name": "Raster Dataset",
   "description": "Supports all ArcGIS Raster Datasets",
   "help": ""
  }
 ],
 "mensurationCapabilities": "Basic",
 "hasHistograms": true,
 "hasColormap": false,
 "hasRasterAttributeTable": false,
 "minScale": 0,
 "maxScale": 0,
 "exportTilesAllowed": false,
 "supportsStatistics": false,
 "supportsAdvancedQueries": false,
 "editFieldsInfo": null,
 "ownershipBasedAccessControlForRasters": null,
 "allowComputeTiePoints": false,
 "useStandardizedQueries": true,
 "advancedQueryCapabilities": {
  "useStandardizedQueries": true,
  "supportsStatistics": false,
  "supportsOrderBy": false,
  "supportsDistinct": false,
  "supportsPagination": false
 },
 "spatialReference": {
  "wkid": 32647,
  "latestWkid": 32647
 }
}
